View In:
ArcGIS JavaScript
🌍 EEA Discomap Portal
ArcGIS Earth
Service Description: Maratlas/habitat_suitability_test2
Name: Maratlas/habitat_suitability_test2
Description:
Single Fused Map Cache: false
Extent:
XMin: -56.729105775953016
YMin: -8.25313686919877
XMax: 79.02089422404698
YMax: 98.49686313080123
Spatial Reference: 4326
(4326)
Initial Extent:
XMin: -56.729105775953016
YMin: -8.25313686919877
XMax: 79.02089422404698
YMax: 98.49686313080123
Spatial Reference: 4326
(4326)
Full Extent:
XMin: -56.729105775953016
YMin: -8.25313686919877
XMax: 79.02089422404698
YMax: 98.49686313080123
Spatial Reference: 4326
(4326)
Pixel Size X: 0.25
Pixel Size Y: 0.25
Band Count: 4
Pixel Type: F64
RasterFunction Infos: {"rasterFunctionInfos": [{
"name": "None",
"description": "",
"help": ""
}]}
Mensuration Capabilities: Basic
Inspection Capabilities:
Has Histograms: true
Has Colormap: false
Has Multi Dimensions : false
Rendering Rule:
Min Scale: 0
Max Scale: 0
Copyright Text:
Service Data Type: esriImageServiceDataTypeGeneric
Min Values: 2.220446049250313E-16, 0, 2.220446049250313E-16, 2.220446049250313E-16
Max Values: 0.9742099642753601, 0, 0.9977268576622009, 0.9999964833259583
Mean Values: 0.16078136554763237, 0, 0.16760541375953772, 0.09371011430084261
Standard Deviation Values: 0.2949877843011043, 0, 0.2951895183999917, 0.2670430519994515
Object ID Field:
Fields:
None
Default Mosaic Method: Center
Allowed Mosaic Methods:
SortField:
SortValue: null
Mosaic Operator: First
Default Compression Quality: 75
Default Resampling Method: Bilinear
Max Record Count: null
Max Image Height: 4100
Max Image Width: 15000
Max Download Image Count: null
Max Mosaic Image Count: null
Allow Raster Function: true
Allow Copy: true
Allow Analysis: true
Allow Compute TiePoints: false
Supports Statistics: false
Supports Advanced Queries: false
Use StandardizedQueries: true
Raster Type Infos:
Name: Raster Dataset
Description: Supports all ArcGIS Raster Datasets
Help:
Has Raster Attribute Table: false
Edit Fields Info: null
Ownership Based AccessControl For Rasters: null
Child Resources:
Info
Histograms
Statistics
Key Properties
Legend
Raster Function Infos
Supported Operations:
Export Image
Identify
Measure
Compute Histograms
Compute Statistics Histograms
Get Samples
Compute Class Statistics
Query Boundary
Compute Pixel Location
Compute Angles
Validate
Project