{
 "currentVersion": 11.3,
 "serviceDescription": "Maratlas/habitat_suitability_test2",
 "name": "Maratlas/habitat_suitability_test2",
 "description": "",
 "extent": {
  "xmin": -56.729105775953016,
  "ymin": -8.25313686919877,
  "xmax": 79.02089422404698,
  "ymax": 98.49686313080123,
  "spatialReference": {
   "wkid": 4326,
   "latestWkid": 4326
  }
 },
 "initialExtent": {
  "xmin": -56.729105775953016,
  "ymin": -8.25313686919877,
  "xmax": 79.02089422404698,
  "ymax": 98.49686313080123,
  "spatialReference": {
   "wkid": 4326,
   "latestWkid": 4326
  }
 },
 "fullExtent": {
  "xmin": -56.729105775953016,
  "ymin": -8.25313686919877,
  "xmax": 79.02089422404698,
  "ymax": 98.49686313080123,
  "spatialReference": {
   "wkid": 4326,
   "latestWkid": 4326
  }
 },
 "sortableFields": "",
 "bandCount": 4,
 "pixelType": "F64",
 "minValues": [
  2.220446049250313E-16,
  0,
  2.220446049250313E-16,
  2.220446049250313E-16
 ],
 "maxValues": [
  0.9742099642753601,
  0,
  0.9977268576622009,
  0.9999964833259583
 ],
 "meanValues": [
  0.16078136554763237,
  0,
  0.16760541375953772,
  0.09371011430084261
 ],
 "stdvValues": [
  0.2949877843011043,
  0,
  0.2951895183999917,
  0.2670430519994515
 ],
 "hasMultidimensions": false,
 "pixelSizeX": 0.25,
 "pixelSizeY": 0.25,
 "meanPixelSize": 27829.87269831839,
 "datasetFormat": "FGDBR",
 "uncompressedSize": 7419552,
 "blockWidth": 128,
 "blockHeight": 128,
 "compressionType": "NONE",
 "bandNames": [
  "Band_1",
  "Band_2",
  "Band_3",
  "Band_4"
 ],
 "allowCopy": true,
 "allowAnalysis": true,
 "itemAccess": false,
 "inspectionCapabilities": "",
 "minPixelSize": 0,
 "maxPixelSize": 0,
 "copyrightText": "",
 "serviceDataType": "esriImageServiceDataTypeGeneric",
 "serviceSourceType": "esriImageServiceSourceTypeDataset",
 "objectIdField": "",
 "fields": [],
 "capabilities": "Image,Metadata,Mensuration",
 "defaultMosaicMethod": "Center",
 "allowedMosaicMethods": "",
 "sortField": "",
 "sortValue": null,
 "sortAscending": true,
 "mosaicOperator": "First",
 "defaultCompressionQuality": 75,
 "defaultResamplingMethod": "Bilinear",
 "maxImageHeight": 4100,
 "maxImageWidth": 15000,
 "allowRasterFunction": true,
 "rasterFunctionInfos": [
  {
   "name": "None",
   "description": "",
   "help": ""
  }
 ],
 "rasterTypeInfos": [
  {
   "name": "Raster Dataset",
   "description": "Supports all ArcGIS Raster Datasets",
   "help": ""
  }
 ],
 "mensurationCapabilities": "Basic",
 "hasHistograms": true,
 "hasColormap": false,
 "hasRasterAttributeTable": false,
 "minScale": 0,
 "maxScale": 0,
 "exportTilesAllowed": false,
 "supportsStatistics": false,
 "supportsAdvancedQueries": false,
 "editFieldsInfo": null,
 "ownershipBasedAccessControlForRasters": null,
 "allowComputeTiePoints": false,
 "useStandardizedQueries": true,
 "advancedQueryCapabilities": {
  "useStandardizedQueries": true,
  "supportsStatistics": false,
  "supportsOrderBy": false,
  "supportsDistinct": false,
  "supportsPagination": false
 },
 "spatialReference": {
  "wkid": 4326,
  "latestWkid": 4326
 }
}
